BEGIN:VCALENDAR
VERSION:2.0
PRODID:-//UBV Putzbrunn - ECPv6.15.20//NONSGML v1.0//EN
CALSCALE:GREGORIAN
METHOD:PUBLISH
X-WR-CALNAME:UBV Putzbrunn
X-ORIGINAL-URL:https://www.ubv-putzbrunn.de
X-WR-CALDESC:Veranstaltungen für UBV Putzbrunn
REFRESH-INTERVAL;VALUE=DURATION:PT1H
X-Robots-Tag:noindex
X-PUBLISHED-TTL:PT1H
BEGIN:VTIMEZONE
TZID:Europe/Berlin
BEGIN:DAYLIGHT
TZOFFSETFROM:+0100
TZOFFSETTO:+0200
TZNAME:CEST
DTSTART:20250330T010000
END:DAYLIGHT
BEGIN:STANDARD
TZOFFSETFROM:+0200
TZOFFSETTO:+0100
TZNAME:CET
DTSTART:20251026T010000
END:STANDARD
BEGIN:DAYLIGHT
TZOFFSETFROM:+0100
TZOFFSETTO:+0200
TZNAME:CEST
DTSTART:20260329T010000
END:DAYLIGHT
BEGIN:STANDARD
TZOFFSETFROM:+0200
TZOFFSETTO:+0100
TZNAME:CET
DTSTART:20261025T010000
END:STANDARD
BEGIN:DAYLIGHT
TZOFFSETFROM:+0100
TZOFFSETTO:+0200
TZNAME:CEST
DTSTART:20270328T010000
END:DAYLIGHT
BEGIN:STANDARD
TZOFFSETFROM:+0200
TZOFFSETTO:+0100
TZNAME:CET
DTSTART:20271031T010000
END:STANDARD
END:VTIMEZONE
BEGIN:VEVENT
DTSTART;TZID=Europe/Berlin:20260318T190000
DTEND;TZID=Europe/Berlin:20260318T210000
DTSTAMP:20260424T174055
CREATED:20260316T072350Z
LAST-MODIFIED:20260316T072515Z
UID:825-1773860400-1773867600@www.ubv-putzbrunn.de
SUMMARY:Bürgerforum März 2026 - Hybrid
DESCRIPTION:Reden Sie mit in der Gemeindepolitik! \nInformieren Sie sich über das kommunalpolitische Geschehen in Putzbrunn\, diskutieren Sie mit uns über aktuelle Themen der nächsten Gemeinderatssitzung und äußern Sie Ihre Meinung. Hier können alle Putzbrunner Bürgerinnen und Bürger mit den UBV-Gemeinderäten diskutieren und ihre Blickwinkel für die Gemeindearbeit einbringen. \nDas Bürgerforum findet in zwangloser Runde statt. Wir freuen uns über rege Bürgerbeteiligung. Die Termine für das UBV-Bürgerforum in 2026\, jeweils Mittwoch um 19:00 Uhr im Bürgerhaus Putzbrunn (Seminarraum 1 und 2) eine Woche vor den Gemeinderatssitzungen\, finden Sie auch auf unserer Website. \nDas Bürgerforum findet im März 2026 wieder hybrid statt\, Einwahl unter: https://meet.google.com/jho-ggpg-tag \n 
URL:https://www.ubv-putzbrunn.de/event/buergerforum-maerz-2026-hybrid/
LOCATION:Bürgerhaus Putzbrunn – Seminarraum 1 und 2\, Hohenbrunner Straße 3\, Putzbrunn\, 85640
CATEGORIES:Termine
ATTACH;FMTTYPE=image/jpeg:https://www.ubv-putzbrunn.de/wp-content/uploads/2026/03/buergerforum-03-2026.jpg
END:VEVENT
END:VCALENDAR