BEGIN:VCALENDAR
VERSION:2.0
PRODID:-//UBV Putzbrunn - ECPv6.15.20//NONSGML v1.0//EN
CALSCALE:GREGORIAN
METHOD:PUBLISH
X-WR-CALNAME:UBV Putzbrunn
X-ORIGINAL-URL:https://www.ubv-putzbrunn.de
X-WR-CALDESC:Veranstaltungen für UBV Putzbrunn
REFRESH-INTERVAL;VALUE=DURATION:PT1H
X-Robots-Tag:noindex
X-PUBLISHED-TTL:PT1H
BEGIN:VTIMEZONE
TZID:Europe/Berlin
BEGIN:DAYLIGHT
TZOFFSETFROM:+0100
TZOFFSETTO:+0200
TZNAME:CEST
DTSTART:20250330T010000
END:DAYLIGHT
BEGIN:STANDARD
TZOFFSETFROM:+0200
TZOFFSETTO:+0100
TZNAME:CET
DTSTART:20251026T010000
END:STANDARD
BEGIN:DAYLIGHT
TZOFFSETFROM:+0100
TZOFFSETTO:+0200
TZNAME:CEST
DTSTART:20260329T010000
END:DAYLIGHT
BEGIN:STANDARD
TZOFFSETFROM:+0200
TZOFFSETTO:+0100
TZNAME:CET
DTSTART:20261025T010000
END:STANDARD
BEGIN:DAYLIGHT
TZOFFSETFROM:+0100
TZOFFSETTO:+0200
TZNAME:CEST
DTSTART:20270328T010000
END:DAYLIGHT
BEGIN:STANDARD
TZOFFSETFROM:+0200
TZOFFSETTO:+0100
TZNAME:CET
DTSTART:20271031T010000
END:STANDARD
END:VTIMEZONE
BEGIN:VEVENT
DTSTART;TZID=Europe/Berlin:20260117T100000
DTEND;TZID=Europe/Berlin:20260117T140000
DTSTAMP:20260424T201207
CREATED:20260109T162934Z
LAST-MODIFIED:20260109T163146Z
UID:780-1768644000-1768658400@www.ubv-putzbrunn.de
SUMMARY:Repair-Café am 17.01.2026
DESCRIPTION:Was tun mit einem Wasserkocher\, der kein Wasser mehr erhitzt? Oder mit einem Staubsauger\, der plötzlich keinen Zug mehr hat? Einfach wegwerfen? Viel zu schade! Kommen Sie lieber ins Repair-Café! Bringen Sie Ihre leicht defekten Elektro- und Küchengeräte oder mechanische Alltagsgegenstände aus dem Haushalt sowie Ihr kaputtes Fahrrad mit. Unsere ehrenamtlichen Helfer schauen sich Ihr Gerät an\, geben Tipps und reparieren gemeinsam mit Ihnen\, was möglich ist. Bitte bringen Sie nur ein Teil pro Person mit und planen Sie ggf. etwas Wartezeit ein. Eine Anmeldung ist nicht nötig – einfach vorbeischauen! \n 
URL:https://www.ubv-putzbrunn.de/event/repair-cafe-am-17-01-2026/
LOCATION:Tennisstüberl\, Glonner Str. 50\, Putzbrunn\, 85640\, Germany
ATTACH;FMTTYPE=image/jpeg:https://www.ubv-putzbrunn.de/wp-content/uploads/Bilder/Termine/Repaircafe.jpg
END:VEVENT
BEGIN:VEVENT
DTSTART;TZID=Europe/Berlin:20260118T100000
DTEND;TZID=Europe/Berlin:20260118T120000
DTSTAMP:20260424T201207
CREATED:20260104T011412Z
LAST-MODIFIED:20260104T011720Z
UID:731-1768730400-1768737600@www.ubv-putzbrunn.de
SUMMARY:Frühschoppen
DESCRIPTION:Frühschoppen mit unserem Bürgermeisterkandidat Michael Schultz und unseren Kandidierenden für den Gemeinderat am Sonntag\, 18.01.2026 ab 10:00 Uhr im Alten Wirt.
URL:https://www.ubv-putzbrunn.de/event/fruehschoppen/
LOCATION:Alter Wirt\, Glonner Str. 11\, Putzbrunn\, 85640\, Germany
CATEGORIES:Termine
ATTACH;FMTTYPE=image/jpeg:https://www.ubv-putzbrunn.de/wp-content/uploads/Bilder/Termine/social-media-plakat-fruehschoppen.jpg
END:VEVENT
BEGIN:VEVENT
DTSTART;TZID=Europe/Berlin:20260121T190000
DTEND;TZID=Europe/Berlin:20260121T210000
DTSTAMP:20260424T201207
CREATED:20260108T163606Z
LAST-MODIFIED:20260316T072539Z
UID:742-1769022000-1769029200@www.ubv-putzbrunn.de
SUMMARY:Bürgerforum Januar 2026
DESCRIPTION:Reden Sie mit in der Gemeindepolitik! \nInformieren Sie sich über das kommunalpolitische Geschehen in Putzbrunn\, diskutieren Sie mit uns über aktuelle Themen der nächsten Gemeinderatssitzung und äußern Sie Ihre Meinung. Hier können alle Putzbrunner Bürgerinnen und Bürger mit den UBV-Gemeinderäten diskutieren und ihre Blickwinkel für die Gemeindearbeit einbringen. \nDas Bürgerforum findet in zwangloser Runde statt. Wir freuen uns über rege Bürgerbeteiligung. Die Termine für das UBV-Bürgerforum in 2026\, jeweils Mittwoch um 19:00 Uhr im Bürgerhaus Putzbrunn (Seminarraum 1 und 2) eine Woche vor den Gemeinderatssitzungen\, finden Sie auch auf unserer Website.
URL:https://www.ubv-putzbrunn.de/event/buergerforum-januar-2026/
LOCATION:Bürgerhaus Putzbrunn – Seminarraum 1 und 2\, Hohenbrunner Straße 3\, Putzbrunn\, 85640
CATEGORIES:Termine
ATTACH;FMTTYPE=image/jpeg:https://www.ubv-putzbrunn.de/wp-content/uploads/Bilder/Termine/buergerforum-01-2026.jpg
END:VEVENT
BEGIN:VEVENT
DTSTART;TZID=Europe/Berlin:20260124T143000
DTEND;TZID=Europe/Berlin:20260124T163000
DTSTAMP:20260424T201207
CREATED:20260108T163914Z
LAST-MODIFIED:20260108T165554Z
UID:746-1769265000-1769272200@www.ubv-putzbrunn.de
SUMMARY:Seniorencafé
DESCRIPTION:Senioren-Café mit unserem Bürgermeisterkandidat Michael Schultz und unseren Kandidierenden für den Gemeinderat am Samstag\, 24.01.2026 ab 14:30 Uhr im Restaurant Waldpark.
URL:https://www.ubv-putzbrunn.de/event/seniorencafe/
LOCATION:Restaurant Waldpark\, Parkstraße 1\, Putzbrunn\, 85640\, Germany
CATEGORIES:Termine
ATTACH;FMTTYPE=image/jpeg:https://www.ubv-putzbrunn.de/wp-content/uploads/Bilder/Termine/social-media-plakat-seniorencafe.jpg
END:VEVENT
BEGIN:VEVENT
DTSTART;TZID=Europe/Berlin:20260128T190000
DTEND;TZID=Europe/Berlin:20260128T210000
DTSTAMP:20260424T201207
CREATED:20260121T093306Z
LAST-MODIFIED:20260121T093306Z
UID:787-1769626800-1769634000@www.ubv-putzbrunn.de
SUMMARY:Podiumsdiskussion zur Bürgermeisterwahl
DESCRIPTION:
URL:https://www.ubv-putzbrunn.de/event/podiumsdiskussion-zur-buergermeisterwahl/
LOCATION:Bürgerhaus Putzbrunn\, Hohenbrunner Straße 3\, Putzbrunn\, 85640\, Germany
CATEGORIES:Termine
ATTACH;FMTTYPE=image/png:https://www.ubv-putzbrunn.de/wp-content/uploads/2026/01/Plakat_BM_PodDis_Pbr.png
END:VEVENT
BEGIN:VEVENT
DTSTART;TZID=Europe/Berlin:20260131T080000
DTEND;TZID=Europe/Berlin:20260131T100000
DTSTAMP:20260424T201207
CREATED:20260108T165028Z
LAST-MODIFIED:20260108T165121Z
UID:758-1769846400-1769853600@www.ubv-putzbrunn.de
SUMMARY:UBV Infostand
DESCRIPTION:Wir sind vor Ort – Kommen sie vorbei
URL:https://www.ubv-putzbrunn.de/event/ubv-infostand-1/
LOCATION:Bäckerei Fischerkeller\, Ottobrunner Str. 37\, Putzbrunn\, 85640\, Germany
ATTACH;FMTTYPE=image/jpeg:https://www.ubv-putzbrunn.de/wp-content/uploads/Bilder/Termine/sm-plakate-infostaende.jpg
END:VEVENT
BEGIN:VEVENT
DTSTART;TZID=Europe/Berlin:20260131T110000
DTEND;TZID=Europe/Berlin:20260131T130000
DTSTAMP:20260424T201207
CREATED:20260108T165202Z
LAST-MODIFIED:20260108T165212Z
UID:762-1769857200-1769864400@www.ubv-putzbrunn.de
SUMMARY:UBV Infostand
DESCRIPTION:Wir sind vor Ort – Kommen sie vorbei
URL:https://www.ubv-putzbrunn.de/event/ubv-infostand-2/
LOCATION:MK Supermarkt\, Glonner Str. 8\, Putzbrunn\, 85640
ATTACH;FMTTYPE=image/jpeg:https://www.ubv-putzbrunn.de/wp-content/uploads/Bilder/Termine/sm-plakate-infostaende.jpg
END:VEVENT
END:VCALENDAR