BEGIN:VCALENDAR
VERSION:2.0
PRODID:-//UBV Putzbrunn - ECPv6.15.20//NONSGML v1.0//EN
CALSCALE:GREGORIAN
METHOD:PUBLISH
X-WR-CALNAME:UBV Putzbrunn
X-ORIGINAL-URL:https://www.ubv-putzbrunn.de
X-WR-CALDESC:Veranstaltungen für UBV Putzbrunn
REFRESH-INTERVAL;VALUE=DURATION:PT1H
X-Robots-Tag:noindex
X-PUBLISHED-TTL:PT1H
BEGIN:VTIMEZONE
TZID:Europe/Berlin
BEGIN:DAYLIGHT
TZOFFSETFROM:+0100
TZOFFSETTO:+0200
TZNAME:CEST
DTSTART:20250330T010000
END:DAYLIGHT
BEGIN:STANDARD
TZOFFSETFROM:+0200
TZOFFSETTO:+0100
TZNAME:CET
DTSTART:20251026T010000
END:STANDARD
BEGIN:DAYLIGHT
TZOFFSETFROM:+0100
TZOFFSETTO:+0200
TZNAME:CEST
DTSTART:20260329T010000
END:DAYLIGHT
BEGIN:STANDARD
TZOFFSETFROM:+0200
TZOFFSETTO:+0100
TZNAME:CET
DTSTART:20261025T010000
END:STANDARD
BEGIN:DAYLIGHT
TZOFFSETFROM:+0100
TZOFFSETTO:+0200
TZNAME:CEST
DTSTART:20270328T010000
END:DAYLIGHT
BEGIN:STANDARD
TZOFFSETFROM:+0200
TZOFFSETTO:+0100
TZNAME:CET
DTSTART:20271031T010000
END:STANDARD
END:VTIMEZONE
BEGIN:VEVENT
DTSTART;TZID=Europe/Berlin:20260513T190000
DTEND;TZID=Europe/Berlin:20260513T210000
DTSTAMP:20260424T140447
CREATED:20260328T125306Z
LAST-MODIFIED:20260414T113119Z
UID:843-1778698800-1778706000@www.ubv-putzbrunn.de
SUMMARY:Bürgerforum Mai 2026
DESCRIPTION:Reden Sie mit in der Gemeindepolitik! \nInformieren Sie sich über das kommunalpolitische Geschehen in Putzbrunn\, diskutieren Sie mit uns über aktuelle Themen der nächsten Gemeinderatssitzung und äußern Sie Ihre Meinung. Hier können alle Putzbrunner Bürgerinnen und Bürger mit den UBV-Gemeinderäten diskutieren und ihre Blickwinkel für die Gemeindearbeit einbringen. \nDas Bürgerforum findet in zwangloser Runde statt. Wir freuen uns über rege Bürgerbeteiligung. Die Termine für das UBV-Bürgerforum in 2026\, jeweils Mittwoch um 19:00 Uhr im Bürgerhaus Putzbrunn (Seminarraum 1 und 2) eine Woche vor den Gemeinderatssitzungen\, finden Sie auch auf unserer Website.
URL:https://www.ubv-putzbrunn.de/event/buergerforum-mai-2026/
LOCATION:Bürgerhaus Putzbrunn – Seminarraum 1 und 2\, Hohenbrunner Straße 3\, Putzbrunn\, 85640
CATEGORIES:Termine
ATTACH;FMTTYPE=image/png:https://www.ubv-putzbrunn.de/wp-content/uploads/2026/03/buergerforum-mai-2026.png
END:VEVENT
BEGIN:VEVENT
DTSTART;TZID=Europe/Berlin:20260624T190000
DTEND;TZID=Europe/Berlin:20260624T210000
DTSTAMP:20260424T140447
CREATED:20260328T125400Z
LAST-MODIFIED:20260328T125404Z
UID:846-1782327600-1782334800@www.ubv-putzbrunn.de
SUMMARY:Bürgerforum Juni 2026
DESCRIPTION:Reden Sie mit in der Gemeindepolitik! \nInformieren Sie sich über das kommunalpolitische Geschehen in Putzbrunn\, diskutieren Sie mit uns über aktuelle Themen der nächsten Gemeinderatssitzung und äußern Sie Ihre Meinung. Hier können alle Putzbrunner Bürgerinnen und Bürger mit den UBV-Gemeinderäten diskutieren und ihre Blickwinkel für die Gemeindearbeit einbringen. \nDas Bürgerforum findet in zwangloser Runde statt. Wir freuen uns über rege Bürgerbeteiligung. Die Termine für das UBV-Bürgerforum in 2026\, jeweils Mittwoch um 19:00 Uhr im Bürgerhaus Putzbrunn (Seminarraum 1 und 2) eine Woche vor den Gemeinderatssitzungen\, finden Sie auch auf unserer Website.
URL:https://www.ubv-putzbrunn.de/event/buergerforum-juni-2026/
LOCATION:Bürgerhaus Putzbrunn – Seminarraum 1 und 2\, Hohenbrunner Straße 3\, Putzbrunn\, 85640
CATEGORIES:Termine
ATTACH;FMTTYPE=image/png:https://www.ubv-putzbrunn.de/wp-content/uploads/2026/03/buergerforum-juni-2026.png
END:VEVENT
BEGIN:VEVENT
DTSTART;TZID=Europe/Berlin:20260722T190000
DTEND;TZID=Europe/Berlin:20260722T210000
DTSTAMP:20260424T140447
CREATED:20260328T125447Z
LAST-MODIFIED:20260328T125447Z
UID:849-1784746800-1784754000@www.ubv-putzbrunn.de
SUMMARY:Bürgerforum Juli 2026
DESCRIPTION:Reden Sie mit in der Gemeindepolitik! \nInformieren Sie sich über das kommunalpolitische Geschehen in Putzbrunn\, diskutieren Sie mit uns über aktuelle Themen der nächsten Gemeinderatssitzung und äußern Sie Ihre Meinung. Hier können alle Putzbrunner Bürgerinnen und Bürger mit den UBV-Gemeinderäten diskutieren und ihre Blickwinkel für die Gemeindearbeit einbringen. \nDas Bürgerforum findet in zwangloser Runde statt. Wir freuen uns über rege Bürgerbeteiligung. Die Termine für das UBV-Bürgerforum in 2026\, jeweils Mittwoch um 19:00 Uhr im Bürgerhaus Putzbrunn (Seminarraum 1 und 2) eine Woche vor den Gemeinderatssitzungen\, finden Sie auch auf unserer Website.
URL:https://www.ubv-putzbrunn.de/event/buergerforum-juli-2026/
LOCATION:Bürgerhaus Putzbrunn – Seminarraum 1 und 2\, Hohenbrunner Straße 3\, Putzbrunn\, 85640
CATEGORIES:Termine
ATTACH;FMTTYPE=image/png:https://www.ubv-putzbrunn.de/wp-content/uploads/2026/03/buergerforum-juli-2026.png
END:VEVENT
BEGIN:VEVENT
DTSTART;TZID=Europe/Berlin:20260923T190000
DTEND;TZID=Europe/Berlin:20260923T210000
DTSTAMP:20260424T140447
CREATED:20260328T125535Z
LAST-MODIFIED:20260328T125535Z
UID:852-1790190000-1790197200@www.ubv-putzbrunn.de
SUMMARY:Bürgerforum September 2026
DESCRIPTION:Reden Sie mit in der Gemeindepolitik! \nInformieren Sie sich über das kommunalpolitische Geschehen in Putzbrunn\, diskutieren Sie mit uns über aktuelle Themen der nächsten Gemeinderatssitzung und äußern Sie Ihre Meinung. Hier können alle Putzbrunner Bürgerinnen und Bürger mit den UBV-Gemeinderäten diskutieren und ihre Blickwinkel für die Gemeindearbeit einbringen. \nDas Bürgerforum findet in zwangloser Runde statt. Wir freuen uns über rege Bürgerbeteiligung. Die Termine für das UBV-Bürgerforum in 2026\, jeweils Mittwoch um 19:00 Uhr im Bürgerhaus Putzbrunn (Seminarraum 1 und 2) eine Woche vor den Gemeinderatssitzungen\, finden Sie auch auf unserer Website.
URL:https://www.ubv-putzbrunn.de/event/buergerforum-september-2026/
LOCATION:Bürgerhaus Putzbrunn – Seminarraum 1 und 2\, Hohenbrunner Straße 3\, Putzbrunn\, 85640
CATEGORIES:Termine
ATTACH;FMTTYPE=image/png:https://www.ubv-putzbrunn.de/wp-content/uploads/2026/03/buergerforum-september-2026.png
END:VEVENT
BEGIN:VEVENT
DTSTART;TZID=Europe/Berlin:20261021T190000
DTEND;TZID=Europe/Berlin:20261021T210000
DTSTAMP:20260424T140447
CREATED:20260328T125621Z
LAST-MODIFIED:20260328T125621Z
UID:855-1792609200-1792616400@www.ubv-putzbrunn.de
SUMMARY:Bürgerforum Oktober 2026
DESCRIPTION:Reden Sie mit in der Gemeindepolitik! \nInformieren Sie sich über das kommunalpolitische Geschehen in Putzbrunn\, diskutieren Sie mit uns über aktuelle Themen der nächsten Gemeinderatssitzung und äußern Sie Ihre Meinung. Hier können alle Putzbrunner Bürgerinnen und Bürger mit den UBV-Gemeinderäten diskutieren und ihre Blickwinkel für die Gemeindearbeit einbringen. \nDas Bürgerforum findet in zwangloser Runde statt. Wir freuen uns über rege Bürgerbeteiligung. Die Termine für das UBV-Bürgerforum in 2026\, jeweils Mittwoch um 19:00 Uhr im Bürgerhaus Putzbrunn (Seminarraum 1 und 2) eine Woche vor den Gemeinderatssitzungen\, finden Sie auch auf unserer Website.
URL:https://www.ubv-putzbrunn.de/event/buergerforum-oktober-2026/
LOCATION:Bürgerhaus Putzbrunn – Seminarraum 1 und 2\, Hohenbrunner Straße 3\, Putzbrunn\, 85640
CATEGORIES:Termine
ATTACH;FMTTYPE=image/png:https://www.ubv-putzbrunn.de/wp-content/uploads/2026/03/buergerforum-oktober-2026.png
END:VEVENT
BEGIN:VEVENT
DTSTART;TZID=Europe/Berlin:20261118T190000
DTEND;TZID=Europe/Berlin:20261118T210000
DTSTAMP:20260424T140447
CREATED:20260328T125705Z
LAST-MODIFIED:20260328T125708Z
UID:858-1795028400-1795035600@www.ubv-putzbrunn.de
SUMMARY:Bürgerforum November 2026
DESCRIPTION:Reden Sie mit in der Gemeindepolitik! \nInformieren Sie sich über das kommunalpolitische Geschehen in Putzbrunn\, diskutieren Sie mit uns über aktuelle Themen der nächsten Gemeinderatssitzung und äußern Sie Ihre Meinung. Hier können alle Putzbrunner Bürgerinnen und Bürger mit den UBV-Gemeinderäten diskutieren und ihre Blickwinkel für die Gemeindearbeit einbringen. \nDas Bürgerforum findet in zwangloser Runde statt. Wir freuen uns über rege Bürgerbeteiligung. Die Termine für das UBV-Bürgerforum in 2026\, jeweils Mittwoch um 19:00 Uhr im Bürgerhaus Putzbrunn (Seminarraum 1 und 2) eine Woche vor den Gemeinderatssitzungen\, finden Sie auch auf unserer Website.
URL:https://www.ubv-putzbrunn.de/event/buergerforum-november-2026/
LOCATION:Bürgerhaus Putzbrunn – Seminarraum 1 und 2\, Hohenbrunner Straße 3\, Putzbrunn\, 85640
CATEGORIES:Termine
ATTACH;FMTTYPE=image/png:https://www.ubv-putzbrunn.de/wp-content/uploads/2026/03/buergerforum-november-2026.png
END:VEVENT
BEGIN:VEVENT
DTSTART;TZID=Europe/Berlin:20261209T190000
DTEND;TZID=Europe/Berlin:20261209T210000
DTSTAMP:20260424T140447
CREATED:20260328T125757Z
LAST-MODIFIED:20260328T125800Z
UID:861-1796842800-1796850000@www.ubv-putzbrunn.de
SUMMARY:Bürgerforum Dezember 2026
DESCRIPTION:Reden Sie mit in der Gemeindepolitik! \nInformieren Sie sich über das kommunalpolitische Geschehen in Putzbrunn\, diskutieren Sie mit uns über aktuelle Themen der nächsten Gemeinderatssitzung und äußern Sie Ihre Meinung. Hier können alle Putzbrunner Bürgerinnen und Bürger mit den UBV-Gemeinderäten diskutieren und ihre Blickwinkel für die Gemeindearbeit einbringen. \nDas Bürgerforum findet in zwangloser Runde statt. Wir freuen uns über rege Bürgerbeteiligung. Die Termine für das UBV-Bürgerforum in 2026\, jeweils Mittwoch um 19:00 Uhr im Bürgerhaus Putzbrunn (Seminarraum 1 und 2) eine Woche vor den Gemeinderatssitzungen\, finden Sie auch auf unserer Website.
URL:https://www.ubv-putzbrunn.de/event/buergerforum-dezember-2026/
LOCATION:Bürgerhaus Putzbrunn – Seminarraum 1 und 2\, Hohenbrunner Straße 3\, Putzbrunn\, 85640
CATEGORIES:Termine
ATTACH;FMTTYPE=image/png:https://www.ubv-putzbrunn.de/wp-content/uploads/2026/03/buergerforum-dezember-2026.png
END:VEVENT
END:VCALENDAR