BEGIN:VCALENDAR
VERSION:2.0
PRODID:-//UBV Putzbrunn - ECPv6.15.20//NONSGML v1.0//EN
CALSCALE:GREGORIAN
METHOD:PUBLISH
X-WR-CALNAME:UBV Putzbrunn
X-ORIGINAL-URL:https://www.ubv-putzbrunn.de
X-WR-CALDESC:Veranstaltungen für UBV Putzbrunn
REFRESH-INTERVAL;VALUE=DURATION:PT1H
X-Robots-Tag:noindex
X-PUBLISHED-TTL:PT1H
BEGIN:VTIMEZONE
TZID:Europe/Berlin
BEGIN:DAYLIGHT
TZOFFSETFROM:+0100
TZOFFSETTO:+0200
TZNAME:CEST
DTSTART:20250330T010000
END:DAYLIGHT
BEGIN:STANDARD
TZOFFSETFROM:+0200
TZOFFSETTO:+0100
TZNAME:CET
DTSTART:20251026T010000
END:STANDARD
BEGIN:DAYLIGHT
TZOFFSETFROM:+0100
TZOFFSETTO:+0200
TZNAME:CEST
DTSTART:20260329T010000
END:DAYLIGHT
BEGIN:STANDARD
TZOFFSETFROM:+0200
TZOFFSETTO:+0100
TZNAME:CET
DTSTART:20261025T010000
END:STANDARD
BEGIN:DAYLIGHT
TZOFFSETFROM:+0100
TZOFFSETTO:+0200
TZNAME:CEST
DTSTART:20270328T010000
END:DAYLIGHT
BEGIN:STANDARD
TZOFFSETFROM:+0200
TZOFFSETTO:+0100
TZNAME:CET
DTSTART:20271031T010000
END:STANDARD
END:VTIMEZONE
BEGIN:VEVENT
DTSTART;TZID=Europe/Berlin:20260215T140000
DTEND;TZID=Europe/Berlin:20260215T170000
DTSTAMP:20260424T201125
CREATED:20260108T164129Z
LAST-MODIFIED:20260108T164642Z
UID:748-1771164000-1771174800@www.ubv-putzbrunn.de
SUMMARY:Kinderfasching
DESCRIPTION:Kinderfasching am Samstag\, 15.02.2026 von 14:00 bis 17:00 Uhr im Großen Saal des Bürgerhauses. \nBegrenzte Platzanzahl!\nKostenlose Eintrittskarten sind im Foyer des Bürgerhauses erhältlich:\n– Dienstag\, 27. Januar von 15:30 bis 17:00 Uhr\n– Donnerstag\, 29. Januar von 16:30 bis 18:00 Uhr\nAm Veranstaltungstag werden keine Eintrittskarten mehr ausgegeben
URL:https://www.ubv-putzbrunn.de/event/kinderfasching/
LOCATION:Bürgerhaus Putzbrunn\, Hohenbrunner Straße 3\, Putzbrunn\, 85640\, Germany
CATEGORIES:Termine
ATTACH;FMTTYPE=image/jpeg:https://www.ubv-putzbrunn.de/wp-content/uploads/Bilder/Termine/social-media-plakat-kinderfasching.jpg
END:VEVENT
END:VCALENDAR